BEGIN:VCALENDAR
VERSION:2.0
PRODID:-//Little Big Women - ECPv6.15.20//NONSGML v1.0//EN
CALSCALE:GREGORIAN
METHOD:PUBLISH
X-WR-CALNAME:Little Big Women
X-ORIGINAL-URL:https://www.littlebigwomen.com
X-WR-CALDESC:Évènements pour Little Big Women
REFRESH-INTERVAL;VALUE=DURATION:PT1H
X-Robots-Tag:noindex
X-PUBLISHED-TTL:PT1H
BEGIN:VTIMEZONE
TZID:Europe/Paris
BEGIN:DAYLIGHT
TZOFFSETFROM:+0100
TZOFFSETTO:+0200
TZNAME:CEST
DTSTART:20240331T010000
END:DAYLIGHT
BEGIN:STANDARD
TZOFFSETFROM:+0200
TZOFFSETTO:+0100
TZNAME:CET
DTSTART:20241027T010000
END:STANDARD
BEGIN:DAYLIGHT
TZOFFSETFROM:+0100
TZOFFSETTO:+0200
TZNAME:CEST
DTSTART:20250330T010000
END:DAYLIGHT
BEGIN:STANDARD
TZOFFSETFROM:+0200
TZOFFSETTO:+0100
TZNAME:CET
DTSTART:20251026T010000
END:STANDARD
BEGIN:DAYLIGHT
TZOFFSETFROM:+0100
TZOFFSETTO:+0200
TZNAME:CEST
DTSTART:20260329T010000
END:DAYLIGHT
BEGIN:STANDARD
TZOFFSETFROM:+0200
TZOFFSETTO:+0100
TZNAME:CET
DTSTART:20261025T010000
END:STANDARD
END:VTIMEZONE
BEGIN:VEVENT
DTSTART;TZID=Europe/Paris:20251107T093000
DTEND;TZID=Europe/Paris:20251107T173000
DTSTAMP:20260423T222036
CREATED:20250929T162428Z
LAST-MODIFIED:20251024T160336Z
UID:10000002-1762507800-1762536600@www.littlebigwomen.com
SUMMARY:Workshop : Ma place\, je la prends !
DESCRIPTION:[vc_row full_screen_section_height= »no »][vc_column width= »3/4″][vc_column_text] \n\n\n\n\n\n\n\n\nParce qu’entreprendre\, c’est aussi OSER être soi. \nDoutes\, syndrome de l’imposteur\, peur de ne pas être légitime… ce workshop vous aide à les dépasser.Un temps pour reconnaître vos forces\, aligner vos valeurs à votre projet et ancrer une posture claire et affirmée. \nLe objectif du workshop \n\nReconnaitre sa valeur\nDépasser ses doutes\nAdopter une posture alignée et affirmée dans son projet entrepreneurial\n\nPré-requis\n\nAvoir démarré (ou être en cours de lancement de) son activité entrepreneuriale.\nÊtre confrontée à des doutes\, à un manque de légitimité ou à des freins internes (comparaison\, peur d’être perçue comme « illégitime »\, invisibilité…).\n\nProgramme\n\nSurmonter le syndrome de l’imposteur\n\nIdentifier les manifestations concrètes du syndrome de l’imposteur dans sa vie d’entrepreneuse\nComprendre les mécanismes sous-jacents (peur de l’échec\, perfectionnisme\, auto-sabotage\, comparaison…)\nPartager ses ressentis pour relativiser et sortir de l’isolement\n\n\nReconnaître ses valeurs et ses forces\n\nClarifier les valeurs qui donnent du sens à son projet\nIdentifier les éventuels conflits de valeurs qui alimentent le doute\nAligner son activité avec ses valeurs pour renforcer sa légitimité\n\n\nDécodage de ses situations de réussite\n\nDécoder une expérience de réussite personnelle ou professionnelle\nIdentifier les ressources internes et externes mobilisées (forces\, compétences\, émotions\, posture)\nFormuler une intention d’ancrage ou de passage à l’action\n\n\nOSER Maintenant\n\nAncrer ses forces et motivations en formulant une intention claire\nPasser à l’action de manière alignée et réaliste\nS’approprier un cadre structurant pour OSER dans la durée\n\n\n\nModalités et méthodes pédagogiques\nL’atelier repose sur une approche expérientielle et participative\, adaptée aux enjeux des entrepreneuses confrontées au syndrome de l’imposteur.\nPédagogie active : alternance de temps d’introspection\, d’échanges en petits groupes et collectifs\nMéthodes projectives : photolangage\, outils d’intelligence émotionnelle\nIntelligence collective : valorisation des expériences et ressources du groupe \nMoyens pédagogiques\nSalle équipée (Wi-Fi\, vidéoprojecteur\, paperboard)\, supports imprimés ou numériques. \n\n\n\n\n\n\n\n\n\n\n\n\n\n\n\n\n\n\n\n[/vc_column_text][/vc_column][vc_column width= »1/4″][vc_column_text] \nL’ intervenante\n \nSophie Henry \nCoach professionnelle et Formatrice en softs skills\nEntrepreneuse depuis 2023 \nCoût\nAdhérentes : 99€\nNon adhérentes : 150€ \n  \nDurée : 7h en présentiel[/vc_column_text][/vc_column][/vc_row]
URL:https://www.littlebigwomen.com/evenement/workshop-ma-place-je-la-prends/
LOCATION:Little Big Women\, 14 rue Vieux Faubourg\, Lille\, 59800\, France
CATEGORIES:Formations,Workshop
ATTACH;FMTTYPE=image/png:https://www.littlebigwomen.com/wp-content/uploads/2025/09/Image-entete-site-Workshop-1.png
END:VEVENT
BEGIN:VEVENT
DTSTART;TZID=Europe/Paris:20251107T140000
DTEND;TZID=Europe/Paris:20251107T163000
DTSTAMP:20260423T222036
CREATED:20251014T093805Z
LAST-MODIFIED:20251014T093921Z
UID:10000010-1762524000-1762533000@www.littlebigwomen.com
SUMMARY:Atelier Énergie & Couleurs – Stimulez votre énergie créative d’entrepreneuse
DESCRIPTION:[vc_row full_screen_section_height= »no »][vc_column width= »3/4″][vc_column_text] \n\n\n\n\nEt si les couleurs pouvaient devenir vos alliées pour (re)trouver l’élan\, la clarté et la confiance dont vous avez besoin dans votre vie d’entrepreneuse ? Cet atelier invite à explorer la puissance des couleurs comme source d’énergie et d’inspiration. À travers une approche à la fois ludique\, sensorielle et introspective\, vous découvrirez comment les nuances qui vous entourent influencent vos émotions\, votre créativité et même vos décisions professionnelles. \n\nObjectifs de l’atelier\n\nComprendre comment les couleurs influencent notre énergie et nos émotions\nConnaître la symbolique des couleurs\nIdentifier sa “couleur totem” : celle qui aide à retrouver ancrage et confiance.\nCréer un moodboard personnel pour repartir avec une source d’inspiration positive et alignée avec son énergie.\n\n\nDéroulé de l’atelier\n\nIntroduction : Les couleurs sous l’angle scientifique et émotionnel\nDécouverte de la symbolique des couleurs.\nPhase créative : création d’un moodboard sur la base d’une « couleur totem »\, support d’inspiration\nClôture : Partage des ressentis et pistes pour intégrer sa couleur dans le quotidien professionnel (espace de travail\, tenue\, outils\, communication…).\n\n\n\n\n\n[/vc_column_text][/vc_column][vc_column width= »1/4″][vc_column_text css= ».vc_custom_1760434755143{border-left-width: 1px !important;padding-left: 10px !important;border-left-color: #bababa !important;border-left-style: solid !important;} »] \nL’ intervenante\n \nSarah Caillard \nAménagement & décoration des espaces professionnels\n\nhttps://www.linkedin.com/in/sarahtoumazeau/\n  \nDurée : 2h30 en présentiel[/vc_column_text][/vc_column][/vc_row]
URL:https://www.littlebigwomen.com/evenement/atelier-energie-couleurs-stimulez-votre-energie-creative-dentrepreneuse/
LOCATION:Little Big Women\, 14 rue Vieux Faubourg\, Lille\, 59800\, France
CATEGORIES:Atelier,Evénements
END:VEVENT
END:VCALENDAR