BEGIN:VCALENDAR
VERSION:2.0
PRODID:-//Little Big Women - ECPv6.15.20//NONSGML v1.0//EN
CALSCALE:GREGORIAN
METHOD:PUBLISH
X-WR-CALNAME:Little Big Women
X-ORIGINAL-URL:https://www.littlebigwomen.com
X-WR-CALDESC:Évènements pour Little Big Women
REFRESH-INTERVAL;VALUE=DURATION:PT1H
X-Robots-Tag:noindex
X-PUBLISHED-TTL:PT1H
BEGIN:VTIMEZONE
TZID:Europe/Paris
BEGIN:DAYLIGHT
TZOFFSETFROM:+0100
TZOFFSETTO:+0200
TZNAME:CEST
DTSTART:20240331T010000
END:DAYLIGHT
BEGIN:STANDARD
TZOFFSETFROM:+0200
TZOFFSETTO:+0100
TZNAME:CET
DTSTART:20241027T010000
END:STANDARD
BEGIN:DAYLIGHT
TZOFFSETFROM:+0100
TZOFFSETTO:+0200
TZNAME:CEST
DTSTART:20250330T010000
END:DAYLIGHT
BEGIN:STANDARD
TZOFFSETFROM:+0200
TZOFFSETTO:+0100
TZNAME:CET
DTSTART:20251026T010000
END:STANDARD
BEGIN:DAYLIGHT
TZOFFSETFROM:+0100
TZOFFSETTO:+0200
TZNAME:CEST
DTSTART:20260329T010000
END:DAYLIGHT
BEGIN:STANDARD
TZOFFSETFROM:+0200
TZOFFSETTO:+0100
TZNAME:CET
DTSTART:20261025T010000
END:STANDARD
END:VTIMEZONE
BEGIN:VEVENT
DTSTART;TZID=Europe/Paris:20251117T084500
DTEND;TZID=Europe/Paris:20251117T173000
DTSTAMP:20260423T222027
CREATED:20251104T162258Z
LAST-MODIFIED:20251104T162258Z
UID:10000050-1763369100-1763400600@www.littlebigwomen.com
SUMMARY:Rencontres Grandes Ensemble - 3e édition
DESCRIPTION:[vc_row full_screen_section_height= »no »][vc_column][vc_column_text]Réservé aux adhérentes LBW et entrepreneuses Grands Ensembles \nLes Rencontres Grandes Ensemble reviennent les 17 et 18 novembre pour une 3e édition avec un programme exclusif co-construit avec Little Big Women\, dédié à un thème clé : la coopération économique. \nDeux jours pour :\n– explorer de nouvelles façons de coopérer sans s’associer\,\n– renforcer la confiance et la posture coopérative\,\n– expérimenter des outils concrets et rencontrer des pairs inspirants. \nAttention\, les places sont limitées par atelier. \nTous les ateliers se dérouleront au Bazaar St-So\, 292\, rue Camille Guérin\, 59800 LILLE[/vc_column_text][/vc_column][/vc_row]
URL:https://www.littlebigwomen.com/evenement/rencontres-grandes-ensemble-3e-edition/2025-11-17/
LOCATION:Bazaar St So\, 292 rue Camille Guerin\, Lille\, 59000\, France
CATEGORIES:Evénements
ATTACH;FMTTYPE=image/png:https://www.littlebigwomen.com/wp-content/uploads/2025/11/lbwxgrandesensembles.png
END:VEVENT
BEGIN:VEVENT
DTSTART;TZID=Europe/Paris:20251117T093000
DTEND;TZID=Europe/Paris:20251117T123000
DTSTAMP:20260423T222027
CREATED:20251014T153320Z
LAST-MODIFIED:20251107T163156Z
UID:10000021-1763371800-1763382600@www.littlebigwomen.com
SUMMARY:[COMPLET] Workshop : Concevoir une offre irrésistible avec l’IA
DESCRIPTION:[vc_row full_screen_section_height= »no »][vc_column width= »3/4″][vc_column_text] \nPour ce workshop\, nous proposons une version en 3h et une en 6h (cf. programme). \nUn atelier pour construire une offre claire\, percutante et alignée… boostée par l’intelligence artificielle. \nTu as une activité en développement ou un projet entrepreneurial structuré\, mais tu te demandes comment proposer une offre qui donne vraiment envie\, qui parle à ta cible\, et qui se démarque de la concurrence ? \nLes objectifs du workshop\n\nConcevoir une offre commerciale alignée avec les attentes de sa cible\nAnalyser le marché\nPersonnaliser sa proposition de valeur et optimiser son message\n\nPré-requis\n\nAvoir une activité en cours de développement ou un projet entrepreneurial structuré\nMaîtriser les bases du numérique (navigation web\, outils bureautiques simples)\nAucun prérequis en intelligence artificielle n’est nécessaire\nApporter son ordinateur\n\nProgramme\n1ère 1/2 journée : 3h \n\nComprendre les attentes de son marché avec l’IA\n\nUtilisation de l’IA pour analyser les tendances et les besoins clients\nIdentifier les signaux faibles et insights pertinents\n\n\nPersonnalisez vos offres pour qu’elles résonnent parfaitement avec chaque client\n\nDéfinir les éléments clés d’une offre qui attire naturellement\nUtiliser l’IA pour générer des idées d’offres adaptées à sa cible\n\n\nBooster son message et son positionnement\n\nOptimiser la présentation de l’offre : wording\, angles\, storytelling\nAjuster son positionnement concurrentiel grâce à l’analyse assistée par IA\n\n\nCréer un support de communication\n\nUtiliser l’IA pour générer un support utilisable sur la cible choisie\nOptimiser la présentation du support\n\n\n\n2ème 1/2 journée : 3h \n\nSéance de travail en intelligence collective avec les apprenantes du groupe pour affiner l’offre\n\nModalités et méthodes pédagogiques\nAtelier présentiel en petit groupe favorisant l’interaction\nAlternance d’apports théoriques\, de démonstrations d’outils IA et d’exercices pratiques\nMises en application sur les projets des participantes\nÉchanges d’expérience entre pairs \nMoyens pédagogiques\nSalle équipée (Wi-Fi\, vidéoprojecteur\, paperboard). Accès à une sélection d’outils IA gratuits ou en version d’essai\nModalités d’évaluations\nAuto-évaluation en début et fin de session\, feedback formatif pendant les exercices\, questionnaire de satisfaction à chaud \nCalendrier de la session : 1 ou 2 demi-journées\nLundi 17 novembre 2025 de 9h30 à 12h30\nLundi 24 novembre 2025 de 9h30 à 12h30 \n[/vc_column_text][/vc_column][vc_column width= »1/4″][vc_column_text] \nL’ intervenante\n \nLaureen Monteil\nConseillère et formatrice chez Little Big Women\nConseil & formation en stratégie et rentabilité des TPE \n  \nDurée : 3 ou 6h en présentiel et environ 1h en formation à distance[/vc_column_text][vc_column_text css= ».vc_custom_1762532598031{margin-top: 30px !important;} »] \nProchaine session\n\nWorkshop : Concevoir une offre irrésistible avec l’IA\n1 décembre 2025 à 14 h 00 min\n[/vc_column_text][/vc_column][/vc_row]
URL:https://www.littlebigwomen.com/evenement/workshop-concevoir-une-offre-irresistible-avec-lia/
LOCATION:Little Big Women\, 14 rue Vieux Faubourg\, Lille\, 59800\, France
CATEGORIES:Formations,Workshop
END:VEVENT
BEGIN:VEVENT
DTSTART;TZID=Europe/Paris:20251117T140000
DTEND;TZID=Europe/Paris:20251117T163000
DTSTAMP:20260423T222027
CREATED:20251014T091934Z
LAST-MODIFIED:20251014T100522Z
UID:10000009-1763388000-1763397000@www.littlebigwomen.com
SUMMARY:Atelier Construis et précise ton projet d’entreprise avec des Lego® !
DESCRIPTION:[vc_row full_screen_section_height= »no »][vc_column width= »3/4″][vc_column_text]\nIl est parfois difficile de trouver les mots justes pour décrire son projet d’entreprise à l’écrit comme à l’oral. Arrive parfois l’angoisse de la page blanche ou le stress d’un pitch en public car ton projet possède des contours encore imprécis. \nEt si tu réfléchissais en groupe à ton projet d’entreprise grâce aux célèbres briques danoises ? \nLa méthode Lego® Serious Play® a été inventée il y a 20 ans par la firme Lego®. Elle se base sur un principe simple : « construire du savoir par les mains ». Elle permet à chacun de s’exprimer et de construire ses idées à partir des briques Lego®. Avec 8 briques : 108 000 combinaisons sont possibles !\nEn construisant avec ses mains\, la créativité est libérée : les connexions neuronales au bout de tes doigts permettent de construire en allant « plus vite » que la pensée rationnelle de ton cerveau. Tu pioches dans ton inconscient ! Tu seras étonnée de ce qui en ressort au fil des défis proposés ! \nLes objectifs de l’atelier\n\nRéfléchir aux fondations de ton entreprise grâce à une méthode originale (positionnement\, services\, client idéal\, écosystème\, concurrence\, etc.)\nVerbaliser ton business model autrement grâce au jeu\nLâcher prise sur ton projet entrepreneurial\nS’entraider dans la construction et la consolidation de ton projet grâce au partage avec le groupe au coeur de la méthode LSP\nDéfinir un plan d’actions pour ton projet\n\nAu programme\nL’atelier se déroulera en 4 étapes : \n\nDécouverte de la méthode (le défi de la tour et autres surprises)\nQui es-tu ? (business model\, compétences\, difficultés…)\nOù es-tu ? (écosystème\, concurrence\, positionnement…)\nOù vas-tu ? (plan d’actions à court\, moyen et long terme)\n\nPré-requis\nAucune compétence de construction n’est requise. On vient tel que l’on est !\n[/vc_column_text][/vc_column][vc_column width= »1/4″][vc_column_text css= ».vc_custom_1760433543007{border-left-width: 1px !important;padding-left: 10px !important;border-left-color: #bababa !important;border-left-style: solid !important;} »] \nL’ intervenante\n \nClaire Casedas \nAvec son entreprise Fun in museum\, Claire Casedas est consultante pour les musées depuis 10 ans. Son métier est de créer et de rénover des musées et des expositions en France\, en Outre-mer et à l’international grâce à l’intelligence collective\, en plaçant le ludisme\, l’accessibilité et le durable au coeur.\nClaire est aussi facilitatrice certifiée en UX design\, design thinking et Lego® Serious Play®. Elle propose aux institutions et aux entreprises des ateliers de facilitation dans des perspectives de développement\, d’innovation et de résolution de problème. \nclaire@funinmuseum.com \nInstagram : @fun_in_museum \n  \nDurée : 2h30 en présentiel[/vc_column_text][/vc_column][/vc_row]
URL:https://www.littlebigwomen.com/evenement/atelier-construis-et-precise-ton-projet-dentreprise-avec-des-lego/
LOCATION:Little Big Women\, 14 rue Vieux Faubourg\, Lille\, 59800\, France
CATEGORIES:Atelier,Evénements
END:VEVENT
BEGIN:VEVENT
DTSTART;TZID=Europe/Paris:20251117T190000
DTEND;TZID=Europe/Paris:20251117T220000
DTSTAMP:20260423T222027
CREATED:20251104T150802Z
LAST-MODIFIED:20251104T150802Z
UID:10000048-1763406000-1763416800@www.littlebigwomen.com
SUMMARY:Soirée – Rencontres Grandes Ensemble x Little Big Women
DESCRIPTION:[vc_row full_screen_section_height= »no »][vc_column][vc_column_text] \nÀ l’occasion de la Journée mondiale de l’entrepreneuriat des femmes et du Mois de l’ESS\, nous vous invitons à une soirée d’échanges inspirants autour d’une question essentielle : \n Comment la coopération et les modèles collectifs (dont les CAE) renforcent-ils le développement et la pérennité de l’entrepreneuriat des femmes ? \n Au programme :\n– Témoignages de dirigeantes\, coopératrices et actrices engagées\n– Échanges ouverts sur les leviers collectifs qui favorisent l’autonomie\, la mutualisation et la durabilité des projets portés par des femmes \n Un événement co-organisé par Grands Ensemble & Little Big Women\navec le soutien de Hauts les Coop ! Fédération des CAE \n Co-financé par la Région Hauts-de-France\, le Fonds européen de développement régional (FEDER) et l’Union Européenne \n[/vc_column_text][/vc_column][/vc_row]
URL:https://www.littlebigwomen.com/evenement/soiree-rencontres-grandes-ensemble-x-little-big-women/
LOCATION:Bazaar St So\, 292 rue Camille Guerin\, Lille\, 59000\, France
CATEGORIES:Evénements
ATTACH;FMTTYPE=image/png:https://www.littlebigwomen.com/wp-content/uploads/2025/11/lbwxgrandesensembles.png
END:VEVENT
END:VCALENDAR