BEGIN:VCALENDAR
VERSION:2.0
PRODID:-//Little Big Women - ECPv6.15.20//NONSGML v1.0//EN
CALSCALE:GREGORIAN
METHOD:PUBLISH
X-WR-CALNAME:Little Big Women
X-ORIGINAL-URL:https://www.littlebigwomen.com
X-WR-CALDESC:Évènements pour Little Big Women
REFRESH-INTERVAL;VALUE=DURATION:PT1H
X-Robots-Tag:noindex
X-PUBLISHED-TTL:PT1H
BEGIN:VTIMEZONE
TZID:Europe/Paris
BEGIN:DAYLIGHT
TZOFFSETFROM:+0100
TZOFFSETTO:+0200
TZNAME:CEST
DTSTART:20240331T010000
END:DAYLIGHT
BEGIN:STANDARD
TZOFFSETFROM:+0200
TZOFFSETTO:+0100
TZNAME:CET
DTSTART:20241027T010000
END:STANDARD
BEGIN:DAYLIGHT
TZOFFSETFROM:+0100
TZOFFSETTO:+0200
TZNAME:CEST
DTSTART:20250330T010000
END:DAYLIGHT
BEGIN:STANDARD
TZOFFSETFROM:+0200
TZOFFSETTO:+0100
TZNAME:CET
DTSTART:20251026T010000
END:STANDARD
BEGIN:DAYLIGHT
TZOFFSETFROM:+0100
TZOFFSETTO:+0200
TZNAME:CEST
DTSTART:20260329T010000
END:DAYLIGHT
BEGIN:STANDARD
TZOFFSETFROM:+0200
TZOFFSETTO:+0100
TZNAME:CET
DTSTART:20261025T010000
END:STANDARD
END:VTIMEZONE
BEGIN:VEVENT
DTSTART;TZID=Europe/Paris:20251120T093000
DTEND;TZID=Europe/Paris:20251120T123000
DTSTAMP:20260423T235706
CREATED:20251014T145907Z
LAST-MODIFIED:20251024T160208Z
UID:10000018-1763631000-1763641800@www.littlebigwomen.com
SUMMARY:Workshop : Piloter sa trésorerie en toute sérénité
DESCRIPTION:[vc_row full_screen_section_height= »no »][vc_column width= »3/4″][vc_column_text] \nAnticipez\, sécurisez et gagnez en visibilité sur vos revenus \nUn atelier pratique pour comprendre la différence entre chiffre d’affaires\, bénéfices et trésorerie réelle\, construire votre tableau de suivi et prendre des décisions éclairées pour développer votre activité en confiance. \nLes objectifs du workshop\nApprendre à construire\, suivre et analyser sa trésorerie pour anticiper les difficultés\, sécuriser son activité et se verser une rémunération régulière en toute sérénité. \nPré-requis\n\nÊtre déjà en activité (ou sur le point de lancer son offre)\nAvoir déjà les estimations ou les coûts réels des charges liées à votre activité.\nApporter son ordinateur\, si possible les 3 derniers relevés bancaires\, le relevé des factures clients non réglées et la liste des devis en cours\n\nProgramme\n\nComprendre la trésorerie\nConstruire son tableau de trésorerie\nAnalyser et anticiper\nÉtude de cas pratique\nFeuille de route mensuelle\n\nModalités et méthodes pédagogiques\nAtelier présentiel en petit groupe favorisant l’interaction\nAlternance d’apports théoriques\, d’exemples concrets et réalistes\, d’exercices pratiques et de quiz interactifs\nUtilisation d’un outil Excel de suivi de trésorerie mis à disposition\n[/vc_column_text][/vc_column][vc_column width= »1/4″][vc_column_text] \nL’ intervenante\n \nLaureen Monteil\nConseillère et formatrice chez Little Big Women\nConseil & formation en stratégie et rentabilité des TPE \n  \nDurée : 3h en présentiel et environ 1h en formation à distance[/vc_column_text][/vc_column][/vc_row]
URL:https://www.littlebigwomen.com/evenement/workshop-piloter-sa-tresorerie-en-toute-serenite/
LOCATION:Little Big Women\, 14 rue Vieux Faubourg\, Lille\, 59800\, France
CATEGORIES:Formations,Workshop
END:VEVENT
END:VCALENDAR