BEGIN:VCALENDAR
VERSION:2.0
PRODID:-//Little Big Women - ECPv6.15.20//NONSGML v1.0//EN
CALSCALE:GREGORIAN
METHOD:PUBLISH
X-WR-CALNAME:Little Big Women
X-ORIGINAL-URL:https://www.littlebigwomen.com
X-WR-CALDESC:Évènements pour Little Big Women
REFRESH-INTERVAL;VALUE=DURATION:PT1H
X-Robots-Tag:noindex
X-PUBLISHED-TTL:PT1H
BEGIN:VTIMEZONE
TZID:Europe/Paris
BEGIN:DAYLIGHT
TZOFFSETFROM:+0100
TZOFFSETTO:+0200
TZNAME:CEST
DTSTART:20240331T010000
END:DAYLIGHT
BEGIN:STANDARD
TZOFFSETFROM:+0200
TZOFFSETTO:+0100
TZNAME:CET
DTSTART:20241027T010000
END:STANDARD
BEGIN:DAYLIGHT
TZOFFSETFROM:+0100
TZOFFSETTO:+0200
TZNAME:CEST
DTSTART:20250330T010000
END:DAYLIGHT
BEGIN:STANDARD
TZOFFSETFROM:+0200
TZOFFSETTO:+0100
TZNAME:CET
DTSTART:20251026T010000
END:STANDARD
BEGIN:DAYLIGHT
TZOFFSETFROM:+0100
TZOFFSETTO:+0200
TZNAME:CEST
DTSTART:20260329T010000
END:DAYLIGHT
BEGIN:STANDARD
TZOFFSETFROM:+0200
TZOFFSETTO:+0100
TZNAME:CET
DTSTART:20261025T010000
END:STANDARD
END:VTIMEZONE
BEGIN:VEVENT
DTSTART;TZID=Europe/Paris:20251202T093000
DTEND;TZID=Europe/Paris:20251202T123000
DTSTAMP:20260423T203903
CREATED:20251014T150320Z
LAST-MODIFIED:20251024T160156Z
UID:10000019-1764667800-1764678600@www.littlebigwomen.com
SUMMARY:Workshop : Prioriser\, déléguer\, souffler : reprendre la main sur mon temps
DESCRIPTION:[vc_row full_screen_section_height= »no »][vc_column width= »3/4″][vc_column_text] \n\n\n\n\n\n\n\n\nTrop de choses à faire\, jamais assez de temps ? Bienvenue dans la vie d’entrepreneuse ! \nCe workshop est fait pour appuyer sur « pause »\, regarder vos automatismes en face et reprendre les commandes.\nAvec des outils simples et concrets\, vous apprendrez à choisir vos priorités\, dire non sans culpabiliser et retrouver de l’air dans vos journées. \nLe objectif du workshop\nPermettre aux entrepreneuses de reprendre le pouvoir sur leur gestion du temps en identifiant leurs automatismes internes et en adoptant des outils concrets de priorisation. \nPré-requis\nAucun prérequis technique. \nAtelier particulièrement pertinent pour des entrepreneuses en activité\, débordées\, ou en quête d’une meilleure organisation au service de leur équilibre. \nProgramme\n\nDécrypter ses automatismes\nIdentifier les injonctions internes qui influencent sa gestion du temps\nComprendre leurs effets sur l’organisation\, la charge mentale ou le surmenage\nAdopter des permissions pour sortir de l’agitation ou de la culpabilité\n\n\nReprendre le pouvoir avec la matrice d’Eisenhower\nDistinguer l’urgent de l’important dans son quotidien professionnel\nStructurer ses priorités pour mieux décider et dire non\nPlanifier en alignement avec ses objectifs et sa vision\n\nModalités et méthodes pédagogiques\nL’atelier repose sur une approche expérientielle et participative\, spécifiquement pensée pour les entrepreneuses.\nPédagogie active : introspection\, échanges\, expérimentations concrètes\nDécodage comportemental : repérage des Drivers en action\nOutils de structuration : matrice de priorisation simple et transférable \nMoyens pédagogiques\nSalle équipée (Wi-Fi\, vidéoprojecteur\, paperboard)\, supports imprimés ou numériques. \n\n\n\n\n\n\n\n\n[/vc_column_text][/vc_column][vc_column width= »1/4″][vc_column_text] \nL’ intervenante\n \nSophie Henry \nCoach professionnelle et Formatrice en softs skills\nEntrepreneuse depuis 2023 \n  \nDurée : 3h en présentiel[/vc_column_text][/vc_column][/vc_row]
URL:https://www.littlebigwomen.com/evenement/workshop-prioriser-deleguer-souffler-reprendre-la-main-sur-mon-temps-2/
LOCATION:Little Big Women\, 14 rue Vieux Faubourg\, Lille\, 59800\, France
CATEGORIES:Formations,Workshop
ATTACH;FMTTYPE=image/png:https://www.littlebigwomen.com/wp-content/uploads/2025/10/entete-site-prioriser.png
END:VEVENT
BEGIN:VEVENT
DTSTART;TZID=Europe/Paris:20251202T100000
DTEND;TZID=Europe/Paris:20251202T110000
DTSTAMP:20260423T203903
CREATED:20251128T101943Z
LAST-MODIFIED:20251128T101943Z
UID:10000074-1764669600-1764673200@www.littlebigwomen.com
SUMMARY:Réunion d'information mensuelle
DESCRIPTION:[vc_row full_screen_section_height= »no »][vc_column][vc_column_text]Nous organisons une réunion d’information par mois. Les réunions d’informations durent 1h et se déroulent en visio-conférence.\nIl est important de vous inscrire au préalable à la réunion à laquelle vous souhaitez participer\, pour revoir le lien et les informations nécessaires.[/vc_column_text][/vc_column][/vc_row]
URL:https://www.littlebigwomen.com/evenement/reunion-dinformation-mensuelle/
LOCATION:Visio\, Visio\, Teams
CATEGORIES:Formations,Workshop
END:VEVENT
BEGIN:VEVENT
DTSTART;TZID=Europe/Paris:20251202T143000
DTEND;TZID=Europe/Paris:20251202T170000
DTSTAMP:20260423T203903
CREATED:20251104T135837Z
LAST-MODIFIED:20251104T140003Z
UID:10000045-1764685800-1764694800@www.littlebigwomen.com
SUMMARY:Atelier "Le Tableau de bord\, ton GPS d’entrepreneuse !"
DESCRIPTION:[vc_row full_screen_section_height= »no »][vc_column width= »3/4″][vc_column_text] \n\n\n\n\n\n\n\n\nPiloter sa boîte sans stress\, c’est possible\, même si tu détestes les chiffres ! \nBeaucoup d’entrepreneuses brillantes\, passionnées et pleines de bon sens galèrent en silence à cause de la gestion.\nCet atelier t’aidera à mettre en place un outil simple et efficace pour ne plus être perdue face aux chiffres. Tu seras organisée pour sortir de la procrastination administrative et financière. \nL’objectif est de te mettre en place dès l’immatriculation de ton entreprise ou de ta micro-entreprise. Tu repartiras avec les outils te permettant de mettre en place les meilleures stratégies de vente et de rentabilité. \nObjectifs de l’atelier\n– Comprendre l’importance du tableau de bord\n– Identifiez 5 indicateurs clés pour son entreprise – Se sentir autonome pour analyser son activité et définir avec un plan d’action clair \nContenu \n\nIntroduction au pilotage : Pourquoi est-ce vital pour votre entreprise ?\nPrésentation du tableau de Bord : Comment déterminer les indicateurs clés ?\nExercices pratiques : Élaboration et analyse d’un tableau de bord à partir d’un exemple.\n\nMéthodes\nAlternance de théorie et de mise en pratique. Travail concret. Temps d’échange pour répondre aux questions spécifiques des participantes. \nLes livrables\nUn tableau de suivi mensuel Un tableau de bord \nPublics visés\n– Aucune formation en gestion n’est requise\n– Se sentir débordée par les chiffres et l’administratif : être désorganisée\, en retard ou ne pas savoir comment faire – Avoir besoin d’un outil simple\, rapide et utile pour gagner en clarté\, en sérénité\, en rentabilité \n\n\n\n\n\n\n\n\n[/vc_column_text][/vc_column][vc_column width= »1/4″][vc_column_text] \nL’ intervenante\n \nLaureen Monteil \nConseillère et formatrice chez Little Big Women\nConsultante Conseil & formation en rentabilité des TPE | rentabilité\, trésorerie\, marge | Experte des métiers de bouche \n  \nDurée : 2h30 en présentiel[/vc_column_text][/vc_column][/vc_row]
URL:https://www.littlebigwomen.com/evenement/atelier-le-tableau-de-bord-ton-gps-dentrepreneuse/
LOCATION:Little Big Women\, 14 rue Vieux Faubourg\, Lille\, 59800\, France
CATEGORIES:Atelier,Evénements
END:VEVENT
END:VCALENDAR