BEGIN:VCALENDAR
VERSION:2.0
PRODID:-//Little Big Women - ECPv6.15.20//NONSGML v1.0//EN
CALSCALE:GREGORIAN
METHOD:PUBLISH
X-ORIGINAL-URL:https://www.littlebigwomen.com
X-WR-CALDESC:Évènements pour Little Big Women
REFRESH-INTERVAL;VALUE=DURATION:PT1H
X-Robots-Tag:noindex
X-PUBLISHED-TTL:PT1H
BEGIN:VTIMEZONE
TZID:Europe/Paris
BEGIN:DAYLIGHT
TZOFFSETFROM:+0100
TZOFFSETTO:+0200
TZNAME:CEST
DTSTART:20250330T010000
END:DAYLIGHT
BEGIN:STANDARD
TZOFFSETFROM:+0200
TZOFFSETTO:+0100
TZNAME:CET
DTSTART:20251026T010000
END:STANDARD
BEGIN:DAYLIGHT
TZOFFSETFROM:+0100
TZOFFSETTO:+0200
TZNAME:CEST
DTSTART:20260329T010000
END:DAYLIGHT
BEGIN:STANDARD
TZOFFSETFROM:+0200
TZOFFSETTO:+0100
TZNAME:CET
DTSTART:20261025T010000
END:STANDARD
BEGIN:DAYLIGHT
TZOFFSETFROM:+0100
TZOFFSETTO:+0200
TZNAME:CEST
DTSTART:20270328T010000
END:DAYLIGHT
BEGIN:STANDARD
TZOFFSETFROM:+0200
TZOFFSETTO:+0100
TZNAME:CET
DTSTART:20271031T010000
END:STANDARD
END:VTIMEZONE
BEGIN:VEVENT
DTSTART;TZID=Europe/Paris:20260129T140000
DTEND;TZID=Europe/Paris:20260129T173000
DTSTAMP:20260423T165919
CREATED:20251222T114413Z
LAST-MODIFIED:20251222T172133Z
UID:10000104-1769695200-1769707800@www.littlebigwomen.com
SUMMARY:Workshop LinkedIn : une identité claire et professionnelle au service de ton activité
DESCRIPTION:[vc_row full_screen_section_height= »no »][vc_column width= »3/4″][vc_column_text] \n\nOptimiser son profil et sa page professionnelle pour être visible\n\n\n\nVotre profil LinkedIn dort encore ? \nIl est temps de le réveiller et d’en faire un véritable levier pour votre activité. \nLors de cette demi-journée\, vous travaillez en profondeur sur votre profil personnel et votre compte professionnel. Entre apports théoriques\, exercices pratiques et temps de co-création\, vous repartez avec des bases solides pour être visible et crédible sur LinkedIn. \nLes objectifs\n\nComprendre l’intérêt de LinkedIn pour développer son activité\nOptimiser son profil personnel\nMettre à jour ou créer une page professionnelle efficace\n\nLes pré-requis\nÊtre entrepreneuse (activité en cours ou en préparation) \nLe programme\n\nPourquoi utiliser LinkedIn pour son entreprise ?\nLes fondamentaux d’un profil LinkedIn efficace\nOptimiser ou créer sa page professionnelle\nParamétrages essentiels et bonnes pratiques de base\n\nLes moyens / Modalités pratiques\nAlternance de théorie\, mise en pratique et échanges \nTravail guidé directement sur les profils \nMatériel à emmener : ordinateur portable \nLivrables\n\nUn profil LinkedIn optimisé\nUne page professionnelle à jour et cohérente\nUne checklist LinkedIn « fondamentaux & bonnes pratiques »\n\n\n\n[/vc_column_text][/vc_column][vc_column width= »1/4″][vc_column_text] \nL’ intervenante\n \nLéa Valbrun \nConsultante en communication digitale et community manager freelance sous le pseudo de Sélénéa Consulting \nJ’accompagne les entrepreneurs du bien-être\, de l’art et la culture et de l’environnement à faire briller leur communication sur les réseaux sociaux et à se démarquer dans un secteur de plus en plus concurrentiel grâce à une offre 100% modulable comprenant de la stratégie\, de l’audit\, du community management\, de l’accompagnement personnalisé\, et de la formation.  Le tout\, toujours dans la joie\, la bonne humeur et la bienveillance. \nhttps://www.selenea.fr/\nhttps://www.instagram.com/selenea_consulting/\nhttps://www.linkedin.com/company/selenea-consulting/\nhttps://www.facebook.com/seleneaconsulting/ \nCoût\nAdhérentes : 59€\nNon adhérentes : 79€ \n  \nDurée : 3h30 en présentiel[/vc_column_text][/vc_column][/vc_row]
URL:https://www.littlebigwomen.com/evenement/workshop-linkedin-booster-sa-visibilite-et-creer-des-connexions-3/
LOCATION:Little Big Women\, 14 rue Vieux Faubourg\, Lille\, 59800\, France
CATEGORIES:Formations,Workshop
END:VEVENT
BEGIN:VEVENT
DTSTART;TZID=Europe/Paris:20260129T143000
DTEND;TZID=Europe/Paris:20260129T170000
DTSTAMP:20260423T165919
CREATED:20251205T145403Z
LAST-MODIFIED:20251205T145403Z
UID:10000075-1769697000-1769706000@www.littlebigwomen.com
SUMMARY:Big Start (demi-journée d'intégration)
DESCRIPTION:[vc_row full_screen_section_height= »no »][vc_column][vc_column_text] \nBienvenue chez Little Big Women ! \nNouvelle adhérente ou membre de longue date prête à rejoindre une promo ? Cette ½ journée d’intégration est pour vous ! \nCe temps fort vous permettra de : \n\nRencontrer d’autres entrepreneures du réseau\,\nDécouvrir (ou redécouvrir) le fonctionnement concret de l’association et les ressources disponibles\,\nFaire connaissance avec l’équipe et créer du lien avec les adhérentes\,\nExplorer les opportunités qui s’offrent à vous et poser toutes vos questions.\n\nAu cours de cette session\, nous constituons des promotions d’entrepreneures afin que vous puissiez vous suivre\, vous entraider et avancer ensemble pendant un an (ou plus). \nNotre objectif ? \nVous aider à trouver votre place dans le réseau\, à vous connecter aux bonnes personnes et à profiter pleinement de tout ce que Little Big Women peut vous apporter. \nNous avons hâte de vous accueillir ! \n[/vc_column_text][/vc_column][/vc_row]
URL:https://www.littlebigwomen.com/evenement/big-start-demi-journee-dintegration/
LOCATION:Little Big Women\, 14 rue Vieux Faubourg\, Lille\, 59800\, France
CATEGORIES:Atelier,Evénements
ATTACH;FMTTYPE=image/jpeg:https://www.littlebigwomen.com/wp-content/uploads/2025/09/IMG_7389-rotated.jpeg
END:VEVENT
END:VCALENDAR