BEGIN:VCALENDAR
VERSION:2.0
PRODID:-//Little Big Women - ECPv6.15.20//NONSGML v1.0//EN
CALSCALE:GREGORIAN
METHOD:PUBLISH
X-WR-CALNAME:Little Big Women
X-ORIGINAL-URL:https://www.littlebigwomen.com
X-WR-CALDESC:Évènements pour Little Big Women
REFRESH-INTERVAL;VALUE=DURATION:PT1H
X-Robots-Tag:noindex
X-PUBLISHED-TTL:PT1H
BEGIN:VTIMEZONE
TZID:Europe/Paris
BEGIN:DAYLIGHT
TZOFFSETFROM:+0100
TZOFFSETTO:+0200
TZNAME:CEST
DTSTART:20250330T010000
END:DAYLIGHT
BEGIN:STANDARD
TZOFFSETFROM:+0200
TZOFFSETTO:+0100
TZNAME:CET
DTSTART:20251026T010000
END:STANDARD
BEGIN:DAYLIGHT
TZOFFSETFROM:+0100
TZOFFSETTO:+0200
TZNAME:CEST
DTSTART:20260329T010000
END:DAYLIGHT
BEGIN:STANDARD
TZOFFSETFROM:+0200
TZOFFSETTO:+0100
TZNAME:CET
DTSTART:20261025T010000
END:STANDARD
BEGIN:DAYLIGHT
TZOFFSETFROM:+0100
TZOFFSETTO:+0200
TZNAME:CEST
DTSTART:20270328T010000
END:DAYLIGHT
BEGIN:STANDARD
TZOFFSETFROM:+0200
TZOFFSETTO:+0100
TZNAME:CET
DTSTART:20271031T010000
END:STANDARD
END:VTIMEZONE
BEGIN:VEVENT
DTSTART;TZID=Europe/Paris:20260206T093000
DTEND;TZID=Europe/Paris:20260206T130000
DTSTAMP:20260423T165812
CREATED:20251222T173616Z
LAST-MODIFIED:20251222T173616Z
UID:10000106-1770370200-1770382800@www.littlebigwomen.com
SUMMARY:Workshop : Réussir ses rendez-vous commerciaux
DESCRIPTION:[vc_row full_screen_section_height= »no »][vc_column width= »3/4″][vc_column_text] \nTransformez vos rendez-vous en opportunités concrètes. \nVous avez une offre claire et des prospects en vue ? Il est temps de structurer vos entretiens pour gagner en impact\, poser un cadre pro\, créer la confiance et conclure sans pression.Un entraînement intensif pour vendre avec justesse\, alignement… et résultats. \nLes objectifs du workshop\n\nPréparer\, conduire et conclure un rendez-vous commercial de manière structurée et efficace\nAdopter une posture professionnelle alignée avec son activité et sa cible\nFaciliter la négociation\n\nPré-requis\n\nÊtre en activité ou en phase de lancement\nAvoir une offre de service ou de produit déjà définie\nAvoir déjà identifié une cible ou des prospects potentiels\n\nProgramme\n\nPréparer son rendez-vous pour gagner en impact\nConduire un entretien fluide et professionnel\nConclure efficacement\n\n[/vc_column_text][/vc_column][vc_column width= »1/4″][vc_column_text] \nL’ intervenante\n \nCatherine Verbrugge\nConseillère création d’entreprise et formatrice depuis 2019\nEntrepreneure depuis 2005 dans le conseil digital et le développement web et mobile. \nCoût\nAdhérentes : 59€\nNon adhérentes : 79€ \n  \nDurée : 3h30 en présentiel[/vc_column_text][/vc_column][/vc_row]
URL:https://www.littlebigwomen.com/evenement/workshop-reussir-ses-rendez-vous-commerciaux-3/
LOCATION:Little Big Women\, 14 rue Vieux Faubourg\, Lille\, 59800\, France
CATEGORIES:Formations,Workshop
END:VEVENT
BEGIN:VEVENT
DTSTART;TZID=Europe/Paris:20260206T140000
DTEND;TZID=Europe/Paris:20260206T153000
DTSTAMP:20260423T165812
CREATED:20251205T160909Z
LAST-MODIFIED:20251205T161050Z
UID:10000088-1770386400-1770391800@www.littlebigwomen.com
SUMMARY:Webinaire "Entreprendre autrement... en coopérative !"
DESCRIPTION:[vc_row full_screen_section_height= »no »][vc_column][vc_column_text css= ».vc_custom_1764948456570{margin-top: 20px !important;} »]Et si vous n’aviez plus à choisir entre liberté et sécurité ? \nVous maîtrisez votre activité\, mais : \n\nVotre protection sociale d’indépendante vous inquiète ?\nL’isolement entrepreneurial pèse sur votre motivation ?\nVous approchez du plafond de TVA de la micro-entreprise et redoutez le changement de statut ?\nVous rêvez des avantages du salariat SANS perdre votre autonomie ?\n\nIl existe une solution méconnue qui révolutionne l’entrepreneuriat… \nLa CAE : Le modèle hybride qui change tout \n\nProtection sociale renforcée (congés maternité indemnisés\, arrêts maladie couverts\, retraite complémentaire)\nAutonomie entrepreneuriale préservée\nForce du collectif et accompagnement\nPas de plafond de chiffre d’affaires contraignant\n\nMais concrètement : \n\nComment ça fonctionne vraiment ?\nVotre activité est-elle compatible ?\nComment dépasser sereinement les limites de la micro-entreprise ?\nQuand et comment franchir le pas ?\n\n→ Découvrez toutes les réponses \n  \nAu programme : \n\nLes clés d’un modèle unique\nTémoignages concrets d’entrepreneuses\nVos questions en direct\n\nEn partenariat avec Hauts Les Coop ! \nDurée 1h30 – format visio – Ouvert à toutes[/vc_column_text][/vc_column][/vc_row]
URL:https://www.littlebigwomen.com/evenement/webinaire-entreprendre-autrement-en-cooperative-2/
LOCATION:Visio\, Visio\, Teams
CATEGORIES:Atelier,Evénements
END:VEVENT
END:VCALENDAR