BEGIN:VCALENDAR
VERSION:2.0
PRODID:-//Little Big Women - ECPv6.15.20//NONSGML v1.0//EN
CALSCALE:GREGORIAN
METHOD:PUBLISH
X-WR-CALNAME:Little Big Women
X-ORIGINAL-URL:https://www.littlebigwomen.com
X-WR-CALDESC:Évènements pour Little Big Women
REFRESH-INTERVAL;VALUE=DURATION:PT1H
X-Robots-Tag:noindex
X-PUBLISHED-TTL:PT1H
BEGIN:VTIMEZONE
TZID:Europe/Paris
BEGIN:DAYLIGHT
TZOFFSETFROM:+0100
TZOFFSETTO:+0200
TZNAME:CEST
DTSTART:20250330T010000
END:DAYLIGHT
BEGIN:STANDARD
TZOFFSETFROM:+0200
TZOFFSETTO:+0100
TZNAME:CET
DTSTART:20251026T010000
END:STANDARD
BEGIN:DAYLIGHT
TZOFFSETFROM:+0100
TZOFFSETTO:+0200
TZNAME:CEST
DTSTART:20260329T010000
END:DAYLIGHT
BEGIN:STANDARD
TZOFFSETFROM:+0200
TZOFFSETTO:+0100
TZNAME:CET
DTSTART:20261025T010000
END:STANDARD
BEGIN:DAYLIGHT
TZOFFSETFROM:+0100
TZOFFSETTO:+0200
TZNAME:CEST
DTSTART:20270328T010000
END:DAYLIGHT
BEGIN:STANDARD
TZOFFSETFROM:+0200
TZOFFSETTO:+0100
TZNAME:CET
DTSTART:20271031T010000
END:STANDARD
END:VTIMEZONE
BEGIN:VEVENT
DTSTART;TZID=Europe/Paris:20260312T140000
DTEND;TZID=Europe/Paris:20260312T170000
DTSTAMP:20260423T150112
CREATED:20260112T163152Z
LAST-MODIFIED:20260216T172841Z
UID:10000123-1773324000-1773334800@www.littlebigwomen.com
SUMMARY:Workshop : Prioriser\, déléguer\, souffler : reprendre la main sur mon temps
DESCRIPTION:[vc_row full_screen_section_height= »no »][vc_column width= »3/4″][vc_column_text] \n\n\n\n\n\n\n\n\nTrop de choses à faire\, jamais assez de temps ? Bienvenue dans la vie d’entrepreneuse ! \nCe workshop est fait pour appuyer sur « pause »\, regarder vos automatismes en face et reprendre les commandes.\nAvec des outils simples et concrets\, vous apprendrez à choisir vos priorités\, dire non sans culpabiliser et retrouver de l’air dans vos journées. \nLe objectif du workshop\nPermettre aux entrepreneuses de reprendre le pouvoir sur leur gestion du temps en identifiant leurs automatismes internes et en adoptant des outils concrets de priorisation. \nPré-requis\nAucun prérequis technique. \nAtelier particulièrement pertinent pour des entrepreneuses en activité\, débordées\, ou en quête d’une meilleure organisation au service de leur équilibre. \nProgramme\n\nDécrypter ses automatismes\nIdentifier les injonctions internes qui influencent sa gestion du temps\nComprendre leurs effets sur l’organisation\, la charge mentale ou le surmenage\nAdopter des permissions pour sortir de l’agitation ou de la culpabilité\n\n\nReprendre le pouvoir avec la matrice d’Eisenhower\nDistinguer l’urgent de l’important dans son quotidien professionnel\nStructurer ses priorités pour mieux décider et dire non\nPlanifier en alignement avec ses objectifs et sa vision\n\nModalités et méthodes pédagogiques\nL’atelier repose sur une approche expérientielle et participative\, spécifiquement pensée pour les entrepreneuses.\nPédagogie active : introspection\, échanges\, expérimentations concrètes\nDécodage comportemental : repérage des Drivers en action\nOutils de structuration : matrice de priorisation simple et transférable \nMoyens pédagogiques\nSalle équipée (Wi-Fi\, vidéoprojecteur\, paperboard)\, supports imprimés ou numériques. \n\n\n\n\n\n\n\n\n[/vc_column_text][/vc_column][vc_column width= »1/4″][vc_column_text] \nL’ intervenante\n \nSophie Henry \nCoach professionnelle et Formatrice en softs skills\nEntrepreneuse depuis 2023 \n  \nDurée : 3h en présentiel[/vc_column_text][/vc_column][/vc_row]
URL:https://www.littlebigwomen.com/evenement/workshop-prioriser-deleguer-souffler-reprendre-la-main-sur-mon-temps-3/
LOCATION:Little Big Women\, 14 rue Vieux Faubourg\, Lille\, 59800\, France
CATEGORIES:Formations,Workshop
ATTACH;FMTTYPE=image/png:https://www.littlebigwomen.com/wp-content/uploads/2025/10/entete-site-prioriser.png
END:VEVENT
END:VCALENDAR