BEGIN:VCALENDAR
VERSION:2.0
PRODID:-//Little Big Women - ECPv6.15.20//NONSGML v1.0//EN
CALSCALE:GREGORIAN
METHOD:PUBLISH
X-WR-CALNAME:Little Big Women
X-ORIGINAL-URL:https://www.littlebigwomen.com
X-WR-CALDESC:Évènements pour Little Big Women
REFRESH-INTERVAL;VALUE=DURATION:PT1H
X-Robots-Tag:noindex
X-PUBLISHED-TTL:PT1H
BEGIN:VTIMEZONE
TZID:Europe/Paris
BEGIN:DAYLIGHT
TZOFFSETFROM:+0100
TZOFFSETTO:+0200
TZNAME:CEST
DTSTART:20250330T010000
END:DAYLIGHT
BEGIN:STANDARD
TZOFFSETFROM:+0200
TZOFFSETTO:+0100
TZNAME:CET
DTSTART:20251026T010000
END:STANDARD
BEGIN:DAYLIGHT
TZOFFSETFROM:+0100
TZOFFSETTO:+0200
TZNAME:CEST
DTSTART:20260329T010000
END:DAYLIGHT
BEGIN:STANDARD
TZOFFSETFROM:+0200
TZOFFSETTO:+0100
TZNAME:CET
DTSTART:20261025T010000
END:STANDARD
BEGIN:DAYLIGHT
TZOFFSETFROM:+0100
TZOFFSETTO:+0200
TZNAME:CEST
DTSTART:20270328T010000
END:DAYLIGHT
BEGIN:STANDARD
TZOFFSETFROM:+0200
TZOFFSETTO:+0100
TZNAME:CET
DTSTART:20271031T010000
END:STANDARD
END:VTIMEZONE
BEGIN:VEVENT
DTSTART;TZID=Europe/Paris:20260318T093000
DTEND;TZID=Europe/Paris:20260318T120000
DTSTAMP:20260423T145949
CREATED:20260130T110702Z
LAST-MODIFIED:20260130T110702Z
UID:10000134-1773826200-1773835200@www.littlebigwomen.com
SUMMARY:Workshop : Vidéo\, les bases du tournage - Se rendre visible en restant soi-même
DESCRIPTION:[vc_row full_screen_section_height= »no »][vc_column width= »3/4″][vc_column_text]Créer ses vidéos pros sans se travestir\, ni perdre ses moyens \nEmbarquez pour cet atelier pratique où vous découvrirez les bases du tournage au smartphone\, sans prise de tête. Pas besoin d’être à l’aise devant la caméra : l’objectif est de passer à l’action avec des astuces et des outils simples\, concrets\, pour créer votre première vidéo à votre image. \nLes objectifs\nCet atelier est conçu pour vous aider à franchir le pas\, simplement. \nVous apprendrez à : \n\nFilmer avec un smartphone de façon simple et efficace\nTransmettre votre message clairement\nMieux appréhender votre image et votre prise de parole face caméra\nGagner en confiance pour vous montrer et rayonner en tant qu’entrepreneuse\n\n Un atelier pratique\, bienveillant et motivant pour réusir à s’exprimer avec aisance devant la caméra et réaliser des vidéos spontanées\, claires et alignées avec votre message\, sans pression technique. \nLes pré-requis\n\nPour les (grandes) débutantes sans pré-requis techniques\nAvoir un message à faire passer et venir avec des idées de contenus vidéo à filmer.\n\nLe programme\n\nDépasser ses blocages face à la caméra\nConstruire un message clair et impactant\nSe familiariser avec la technique sans pression\nMises en pratique\n\nLes moyens / Modalités pratiques\nLe matériel à emmener si besoin : un ordinateur ou de quoi noter\, un smartphone (chargé) ou un reflex et tout matériel déjà acquis (kit audio\, lampe led\, trépied…).[/vc_column_text][/vc_column][vc_column width= »1/4″][vc_column_text] \nL’ intervenante\n \nCharline Vasseur\,\nvidéaste et fondatrice du studio de souvenirs vidéo « Les Jolis Films ». Ma carrière de journaliste radio et TV m’a transformée en couteau suisse de l’audiovisuel. Je compose aujourd’hui des films à partir de vos archives pour raconter vos plus beaux moments de vie. Je monte vos contenus vidéo existants pour gagner en visibilité. Je réalise aussi vos portraits professionnels.\nwww.lesjolisfilms.fr\nInsta : @lesjolisfilms \n  \nDurée : 2h30 en présentiel[/vc_column_text][/vc_column][/vc_row]
URL:https://www.littlebigwomen.com/evenement/workshop-video-les-bases-du-tournage-se-rendre-visible-en-restant-soi-meme-2/
LOCATION:Little Big Women\, 14 rue Vieux Faubourg\, Lille\, 59800\, France
CATEGORIES:Formations,Workshop
END:VEVENT
BEGIN:VEVENT
DTSTART;TZID=Europe/Paris:20260318T140000
DTEND;TZID=Europe/Paris:20260318T163000
DTSTAMP:20260423T145949
CREATED:20260130T110733Z
LAST-MODIFIED:20260130T110733Z
UID:10000135-1773842400-1773851400@www.littlebigwomen.com
SUMMARY:Workshop : Initiez-vous au montage vidéo
DESCRIPTION:[vc_row full_screen_section_height= »no »][vc_column width= »3/4″][vc_column_text] \n\n\n\n\n  \nApprendre les bases du montage vidéo pour réaliser ses contenus pros sans prise de tête \nUn atelier pratique pour apprendre les bases du montage vidéo\, gagner en autonomie et créer des contenus courts\, clairs et impactants pour booster votre visibilité en ligne. \nLes objectifs\n Un atelier concret et accessible pour réusir à réaliser ses vidéos professionnelles courtes sur un logiciel de montage gratuit\, pour les diffuser par la suite.  \nLes pré-requis\n\nÊtre entrepreneure (activité en cours ou en préparation)\nApporter du contenu vidéo à monter (ou participer au préalable au Workshop : Vidéo\, se rendre visible en restant soi-même)\nAvoir besoin de se rendre visible en ligne (réseaux sociaux\, site\, prospection)\n\nLe programme\n\nDépasser ses blocages face à la technique\nConstruire un message clair et impactant\nSe familiariser avec la technique sans pression\nMises en pratique\n\nLes moyens / Modalités pratiques\nLe matériel à emmener si besoin : Apporter son matériel chargé (smartphone ou PC pour plus d’ergonomie pour apprendre le montage). \n\n\n\n\n[/vc_column_text][/vc_column][vc_column width= »1/4″][vc_column_text] \nL’ intervenante\n \nCharline Vasseur\,\nvidéaste et fondatrice du studio de souvenirs vidéo « Les Jolis Films ». Ma carrière de journaliste radio et TV m’a transformée en couteau suisse de l’audiovisuel. Je compose aujourd’hui des films à partir de vos archives pour raconter vos plus beaux moments de vie. Je monte vos contenus vidéo existants pour gagner en visibilité. Je réalise aussi vos portraits professionnels.\nwww.lesjolisfilms.fr\nInsta : @lesjolisfilms \nCoût\nAdhérentes : 59€\nNon adhérentes : 79€ \n  \nDurée : 2h30 en présentiel[/vc_column_text][/vc_column][/vc_row]
URL:https://www.littlebigwomen.com/evenement/workshop-initiez-vous-au-montage-video-2/
LOCATION:Little Big Women\, 14 rue Vieux Faubourg\, Lille\, 59800\, France
CATEGORIES:Formations,Workshop
END:VEVENT
END:VCALENDAR