BEGIN:VCALENDAR
VERSION:2.0
PRODID:-//Little Big Women - ECPv6.15.20//NONSGML v1.0//EN
CALSCALE:GREGORIAN
METHOD:PUBLISH
X-ORIGINAL-URL:https://www.littlebigwomen.com
X-WR-CALDESC:Évènements pour Little Big Women
REFRESH-INTERVAL;VALUE=DURATION:PT1H
X-Robots-Tag:noindex
X-PUBLISHED-TTL:PT1H
BEGIN:VTIMEZONE
TZID:Europe/Paris
BEGIN:DAYLIGHT
TZOFFSETFROM:+0100
TZOFFSETTO:+0200
TZNAME:CEST
DTSTART:20250330T010000
END:DAYLIGHT
BEGIN:STANDARD
TZOFFSETFROM:+0200
TZOFFSETTO:+0100
TZNAME:CET
DTSTART:20251026T010000
END:STANDARD
BEGIN:DAYLIGHT
TZOFFSETFROM:+0100
TZOFFSETTO:+0200
TZNAME:CEST
DTSTART:20260329T010000
END:DAYLIGHT
BEGIN:STANDARD
TZOFFSETFROM:+0200
TZOFFSETTO:+0100
TZNAME:CET
DTSTART:20261025T010000
END:STANDARD
BEGIN:DAYLIGHT
TZOFFSETFROM:+0100
TZOFFSETTO:+0200
TZNAME:CEST
DTSTART:20270328T010000
END:DAYLIGHT
BEGIN:STANDARD
TZOFFSETFROM:+0200
TZOFFSETTO:+0100
TZNAME:CET
DTSTART:20271031T010000
END:STANDARD
END:VTIMEZONE
BEGIN:VEVENT
DTSTART;TZID=Europe/Paris:20260511T143000
DTEND;TZID=Europe/Paris:20260511T173000
DTSTAMP:20260423T150114
CREATED:20251106T163214Z
LAST-MODIFIED:20251223T154717Z
UID:10000064-1778509800-1778520600@www.littlebigwomen.com
SUMMARY:Workshop : Fixer son prix
DESCRIPTION:[vc_row full_screen_section_height= »no »][vc_column width= »3/4″][vc_column_text] \n\n\n\n\n\n\n\n\nAssez de douter\, de brader ou de fixer « au feeling » ?\nCe workshop vous aide à construire un prix solide\, aligné avec vos coûts\, votre valeur et votre positionnement. \nLe objectif du workshop\nDéfinir un tarif de vente juste\, cohérent et rentable\, en tenant compte de ses coûts réels\, de la valeur perçue de son offre\, de son positionnement et des stratégies tarifaires adaptées à son métier. \nPré-requis\n\nÊtre en activité (ou sur le point de lancer son offre) en tant que consultante\, coach ou thérapeute\nAvoir identifié ou estimé les produits et charges liées à son activité (prévisionnel ou produits et charges d’exploitation annuelles)\nApporter son ordinateur\n\nProgramme\n\nComprendre la structure de son prix\nExplorer les stratégies tarifaires\nValoriser son expertise pour justifier son prix\nMises en pratique\n\nCalcul de son propre prix de vente\nSimulations\, retours croisés et ajustements\n\n\n\nModalités et méthodes pédagogiques\nAtelier interactif en petit groupe\nAlternance d’apports théoriques\, de temps de réflexion individuelle et d’exercices concrets\nÉchanges entre pairs et retours personnalisés \nMoyens pédagogiques\nSalle équipée (Wi-Fi\, vidéoprojecteur\, paperboard)\, supports imprimés ou numériques (fiche de calcul\, schémas\, tableaux de projection). \n\n\n\n\n\n\n\n\n[/vc_column_text][/vc_column][vc_column width= »1/4″][vc_column_text] \nL’ intervenante\n \nLaureen Monteil\nConseillère et formatrice chez Little Big Women\nConseil & formation en stratégie et rentabilité des TPE \nCoût\nAdhérentes : 99€\nNon adhérentes : 150€ \nCalendrier de la session (2 demi-journées)\n11 mai 2026 de 14h30 à 17h30\n26 mai 2026 de 14h30 à 17h30 \n  \nDurée : 6h en présentiel et environ 1h en formation à distance[/vc_column_text][/vc_column][/vc_row]
URL:https://www.littlebigwomen.com/evenement/workshop-fixer-son-prix-3/
LOCATION:Little Big Women\, 14 rue Vieux Faubourg\, Lille\, 59800\, France
CATEGORIES:Formations,Workshop
ATTACH;FMTTYPE=image/png:https://www.littlebigwomen.com/wp-content/uploads/2025/09/Image-entete-site-Workshop.png
END:VEVENT
END:VCALENDAR