BEGIN:VCALENDAR
VERSION:2.0
PRODID:-//Little Big Women - ECPv6.15.20//NONSGML v1.0//EN
CALSCALE:GREGORIAN
METHOD:PUBLISH
X-WR-CALNAME:Little Big Women
X-ORIGINAL-URL:https://www.littlebigwomen.com
X-WR-CALDESC:Évènements pour Little Big Women
REFRESH-INTERVAL;VALUE=DURATION:PT1H
X-Robots-Tag:noindex
X-PUBLISHED-TTL:PT1H
BEGIN:VTIMEZONE
TZID:Europe/Paris
BEGIN:DAYLIGHT
TZOFFSETFROM:+0100
TZOFFSETTO:+0200
TZNAME:CEST
DTSTART:20250330T010000
END:DAYLIGHT
BEGIN:STANDARD
TZOFFSETFROM:+0200
TZOFFSETTO:+0100
TZNAME:CET
DTSTART:20251026T010000
END:STANDARD
BEGIN:DAYLIGHT
TZOFFSETFROM:+0100
TZOFFSETTO:+0200
TZNAME:CEST
DTSTART:20260329T010000
END:DAYLIGHT
BEGIN:STANDARD
TZOFFSETFROM:+0200
TZOFFSETTO:+0100
TZNAME:CET
DTSTART:20261025T010000
END:STANDARD
BEGIN:DAYLIGHT
TZOFFSETFROM:+0100
TZOFFSETTO:+0200
TZNAME:CEST
DTSTART:20270328T010000
END:DAYLIGHT
BEGIN:STANDARD
TZOFFSETFROM:+0200
TZOFFSETTO:+0100
TZNAME:CET
DTSTART:20271031T010000
END:STANDARD
END:VTIMEZONE
BEGIN:VEVENT
DTSTART;TZID=Europe/Paris:20261119T140000
DTEND;TZID=Europe/Paris:20261119T180000
DTSTAMP:20260423T125703
CREATED:20260218T105715Z
LAST-MODIFIED:20260218T105715Z
UID:10000153-1795096800-1795111200@www.littlebigwomen.com
SUMMARY:Permanence Cabinet d'Expertise Comptable Lumane
DESCRIPTION:[vc_row full_screen_section_height= »no »][vc_column width= »3/4″][vc_column_text] \n\n\n\n\n\n\n\n\nVous avez une question comptable\, juridique ou fiscale sur votre activité ?\nProfitez d’un rendez-vous individuel de 30 minutes avec Charline Bauer du cabinet Lumane. \nTout au long de l’année\, nous vous proposons des permanences comptables en présentiel\, sous forme d’« expertise flash ».\nCes rendez-vous individuels vous permettent d’obtenir un premier éclairage professionnel sur vos question de gestion et de pilotage de votre activité\, y compris si vous êtes en micro-entreprise. \n⚠️ Cette permanence constitue un temps d’orientation et de conseil ponctuel. Elle ne remplace pas une mission d’accompagnement comptable complète. \nModalités\nFormat : rendez-vous individuel en présentiel\nDurée : 30 minutes maximum\nInscription obligatoire – nombre de créneaux limité \n\n\n\n\n\n\n\n\n[/vc_column_text][/vc_column][vc_column width= »1/4″][vc_column_text] \nL’ intervenante\n \nCharline Bauer \nConseil en gestion ▪️ Expertise Comptable ▪️ Audit chez LUMANE \nLumane accompagne les chefs d’entreprises de toutes activités\, dans la gestion de leur comptabilité et le pilotage de leur entreprise\nwww.lumane.fr \n[/vc_column_text][/vc_column][/vc_row]
URL:https://www.littlebigwomen.com/evenement/permanence-cabinet-dexpertise-comptable-lumane-6/
LOCATION:Little Big Women\, 14 rue Vieux Faubourg\, Lille\, 59800\, France
CATEGORIES:Atelier,Evénements
END:VEVENT
BEGIN:VEVENT
DTSTART;TZID=Europe/Paris:20261120T140000
DTEND;TZID=Europe/Paris:20261120T153000
DTSTAMP:20260423T125703
CREATED:20251205T161406Z
LAST-MODIFIED:20260112T150258Z
UID:10000091-1795183200-1795188600@www.littlebigwomen.com
SUMMARY:Webinaire "Entreprendre autrement... en coopérative !"
DESCRIPTION:[vc_row full_screen_section_height= »no »][vc_column][vc_column_text css= ».vc_custom_1764948456570{margin-top: 20px !important;} »]Et si vous n’aviez plus à choisir entre liberté et sécurité ? \nVous maîtrisez votre activité\, mais : \n\nVotre protection sociale d’indépendante vous inquiète ?\nL’isolement entrepreneurial pèse sur votre motivation ?\nVous approchez du plafond de TVA de la micro-entreprise et redoutez le changement de statut ?\nVous rêvez des avantages du salariat SANS perdre votre autonomie ?\n\nIl existe une solution méconnue qui révolutionne l’entrepreneuriat… \nLa CAE : Le modèle hybride qui change tout \n\nProtection sociale renforcée (congés maternité indemnisés\, arrêts maladie couverts\, retraite complémentaire)\nAutonomie entrepreneuriale préservée\nForce du collectif et accompagnement\nPas de plafond de chiffre d’affaires contraignant\n\nMais concrètement : \n\nComment ça fonctionne vraiment ?\nVotre activité est-elle compatible ?\nComment dépasser sereinement les limites de la micro-entreprise ?\nQuand et comment franchir le pas ?\n\n→ Découvrez toutes les réponses \n  \nAu programme : \n\nLes clés d’un modèle unique\nTémoignages concrets d’entrepreneuses\nVos questions en direct\n\nEn partenariat avec Hauts Les Coop ! \nDurée 1h30 – format visio – Ouvert à toutes[/vc_column_text][/vc_column][/vc_row]
URL:https://www.littlebigwomen.com/evenement/webinaire-entreprendre-autrement-en-cooperative-5/
LOCATION:Visio\, Visio\, Teams
CATEGORIES:Atelier,Evénements
END:VEVENT
END:VCALENDAR