BEGIN:VCALENDAR
VERSION:2.0
PRODID:-//Little Big Women - ECPv6.15.20//NONSGML v1.0//EN
CALSCALE:GREGORIAN
METHOD:PUBLISH
X-ORIGINAL-URL:https://www.littlebigwomen.com
X-WR-CALDESC:Évènements pour Little Big Women
REFRESH-INTERVAL;VALUE=DURATION:PT1H
X-Robots-Tag:noindex
X-PUBLISHED-TTL:PT1H
BEGIN:VTIMEZONE
TZID:Europe/Paris
BEGIN:DAYLIGHT
TZOFFSETFROM:+0100
TZOFFSETTO:+0200
TZNAME:CEST
DTSTART:20240331T010000
END:DAYLIGHT
BEGIN:STANDARD
TZOFFSETFROM:+0200
TZOFFSETTO:+0100
TZNAME:CET
DTSTART:20241027T010000
END:STANDARD
BEGIN:DAYLIGHT
TZOFFSETFROM:+0100
TZOFFSETTO:+0200
TZNAME:CEST
DTSTART:20250330T010000
END:DAYLIGHT
BEGIN:STANDARD
TZOFFSETFROM:+0200
TZOFFSETTO:+0100
TZNAME:CET
DTSTART:20251026T010000
END:STANDARD
BEGIN:DAYLIGHT
TZOFFSETFROM:+0100
TZOFFSETTO:+0200
TZNAME:CEST
DTSTART:20260329T010000
END:DAYLIGHT
BEGIN:STANDARD
TZOFFSETFROM:+0200
TZOFFSETTO:+0100
TZNAME:CET
DTSTART:20261025T010000
END:STANDARD
END:VTIMEZONE
BEGIN:VEVENT
DTSTART;TZID=Europe/Paris:20251103T140000
DTEND;TZID=Europe/Paris:20251103T170000
DTSTAMP:20260423T112139
CREATED:20251014T095748Z
LAST-MODIFIED:20251016T162326Z
UID:10000012-1762178400-1762189200@www.littlebigwomen.com
SUMMARY:Atelier Je prends confiance dans ma capacité à incarner ma posture d’entrepreneure
DESCRIPTION:[vc_row full_screen_section_height= »no »][vc_column width= »3/4″][vc_column_text] \nPrenez la parole avec assurance et impact\nEntreprendre\, c’est aussi savoir convaincre\, inspirer et transmettre vos idées avec clarté. Cet atelier vous propose un espace bienveillant et dynamique pour développer vos compétences de communication orale et votre aisance relationnelle. Guidées par une intervenante spécialisée en développement des compétences relationnelles et un metteur en scène\, vous expérimenterez des techniques concrètes pour renforcer votre confiance\, structurer vos prises de parole et incarner pleinement votre posture d’entrepreneure. \nLes objectifs de l’atelier\n\nAméliorer la confiance en soi\nStructurer un discours\nRéguler le trac / stress\nTransmettre un message efficace\nAdopter une attitude corporelle et une élocution convaincante\n\n  \nAu programme\nEnsemble d’exercices permettant l’expérimentation de techniques liées à la prise de parole et à la posture\, en situation de présentation / d’entretien \n  \nCalendrier de l’atelier (2 demi-journées complémentaires)\nLundi 3 novembre de 14h à 17h\net\nVendredi 14 novembre 2025 de 9h30 à 12h30[/vc_column_text][/vc_column][vc_column width= »1/4″][vc_column_text css= ».vc_custom_1760435913517{border-left-width: 1px !important;padding-left: 10px !important;border-left-color: #bababa !important;border-left-style: solid !important;} »] \nLes intervenants\nAurore Langagne \nIntervenante en développement des compétences relationnelles\, porteuse du projet et co-fondatrice de l’Association Heureux Ensemble \nwww.heureuxensemble.fr\nwww.linkedin.com/in/aurore-langagne-9b176a39\n\nTristan Heili \nMetteur en scène et auteur\, Président de l’association Rêves Cinétiques \nhttps://www.linkedin.com/in/tristan-heili-4596a2a3/ \n  \nDurée : 6h en présentiel[/vc_column_text][/vc_column][/vc_row]
URL:https://www.littlebigwomen.com/evenement/atelier-je-prends-confiance-dans-ma-capacite-a-incarner-ma-posture-dentrepreneure/
LOCATION:Little Big Women\, 14 rue Vieux Faubourg\, Lille\, 59800\, France
CATEGORIES:Atelier,Evénements
END:VEVENT
END:VCALENDAR