BEGIN:VCALENDAR
VERSION:2.0
PRODID:-//Little Big Women - ECPv6.15.20//NONSGML v1.0//EN
CALSCALE:GREGORIAN
METHOD:PUBLISH
X-WR-CALNAME:Little Big Women
X-ORIGINAL-URL:https://www.littlebigwomen.com
X-WR-CALDESC:Évènements pour Little Big Women
REFRESH-INTERVAL;VALUE=DURATION:PT1H
X-Robots-Tag:noindex
X-PUBLISHED-TTL:PT1H
BEGIN:VTIMEZONE
TZID:Europe/Paris
BEGIN:DAYLIGHT
TZOFFSETFROM:+0100
TZOFFSETTO:+0200
TZNAME:CEST
DTSTART:20240331T010000
END:DAYLIGHT
BEGIN:STANDARD
TZOFFSETFROM:+0200
TZOFFSETTO:+0100
TZNAME:CET
DTSTART:20241027T010000
END:STANDARD
BEGIN:DAYLIGHT
TZOFFSETFROM:+0100
TZOFFSETTO:+0200
TZNAME:CEST
DTSTART:20250330T010000
END:DAYLIGHT
BEGIN:STANDARD
TZOFFSETFROM:+0200
TZOFFSETTO:+0100
TZNAME:CET
DTSTART:20251026T010000
END:STANDARD
BEGIN:DAYLIGHT
TZOFFSETFROM:+0100
TZOFFSETTO:+0200
TZNAME:CEST
DTSTART:20260329T010000
END:DAYLIGHT
BEGIN:STANDARD
TZOFFSETFROM:+0200
TZOFFSETTO:+0100
TZNAME:CET
DTSTART:20261025T010000
END:STANDARD
END:VTIMEZONE
BEGIN:VEVENT
DTSTART;TZID=Europe/Paris:20251020T093000
DTEND;TZID=Europe/Paris:20251020T170000
DTSTAMP:20260423T221448
CREATED:20251014T155113Z
LAST-MODIFIED:20251024T160120Z
UID:10000023-1760952600-1760979600@www.littlebigwomen.com
SUMMARY:Workshop : Maîtriser la prospection téléphonique
DESCRIPTION:[vc_row full_screen_section_height= »no »][vc_column width= »3/4″][vc_column_text] \nVous redoutez le téléphone ? Vous avez du mal à accrocher vos prospects ou à transformer vos appels en rendez-vous ? Rejoignez-nous pour passer à l’action ! \nLes objectifs du workshop\n\nPréparer efficacement un appel\nCapter l’attention dès les premières secondes\nGérer les objections courantes\nQualifier les prospects rapidement et convertir l’appel en rendez-vous.\n\nPré-requis\n\nAvoir une offre ou un service à proposer clairement identifiée (produit\, prestation\, expertise\, etc.)\nPréparer à l’avance 3 objectifs concrets (ex. : générer des RDV\, relancer des leads\, vendre un service)\nApporter 2 à 3 objections fréquentes de la part de vos prospects (s’il y en a)\n\nProgramme\n\nIntroduction et diagnostic\n\nConnaître les fondamentaux d’un appel téléphonique\nPréparation et posture\nQualification des prospects\nSavoir valoriser son offre\nLes CRM l’importance de la gestion des relations prospects – clients\n\n\nGérer les objections courantes\n\nDécryptage des objections\nTechniques de réponse\nJeu de rôle guidé\n\n\n\n[/vc_column_text][/vc_column][vc_column width= »1/4″][vc_column_text] \nL’ intervenant\n \nHassan Errachidi\nConseiller chez Little Big Women \n  \nDurée : 6h en présentiel[/vc_column_text][/vc_column][/vc_row]
URL:https://www.littlebigwomen.com/evenement/workshop-maitriser-la-prospection-telephonique/
LOCATION:Little Big Women\, 14 rue Vieux Faubourg\, Lille\, 59800\, France
CATEGORIES:Formations,Workshop
END:VEVENT
BEGIN:VEVENT
DTSTART;TZID=Europe/Paris:20251023T140000
DTEND;TZID=Europe/Paris:20251023T173000
DTSTAMP:20260423T221448
CREATED:20251014T102256Z
LAST-MODIFIED:20251024T160228Z
UID:10000015-1761228000-1761240600@www.littlebigwomen.com
SUMMARY:Workshop LinkedIn : booster sa visibilité et créer des connexions
DESCRIPTION:[vc_row full_screen_section_height= »no »][vc_column width= »3/4″][vc_column_text]Votre profil LinkedIn dort encore ? Il est temps de le réveiller et d’en faire un vrai levier pour votre activité ! \nEn une demi-journée\, vous optimisez votre profil\, définissez une stratégie de publication et repartez avec vos premiers posts prêts à publier. Entre théorie\, pratique et co-création\, vous apprenez à rayonner sur LinkedIn\, développer votre réseau et créer des connexions qui comptent. \nLes objectifs\nRepartir avec un profil optimisé et des posts concrets pour rayonner sur LinkedIn et développer son réseau. \nLes pré-requis\n\nÊtre entrepreneure (activité en cours ou en préparation)\n\nLe programme\n\nPourquoi utiliser LinkedIn pour son entreprise ?\nOptimiser son profil et/ou sa page professionnelle\nDéfinir une stratégie de publication\nBonnes pratiques d’engagement\nExercice 1 : rédaction de posts\nExercice 2 : réseautage\n\nLes moyens / Modalités pratiques\nLe matériel à emmener : Apporter son ordinateur portable. \nLivrables\n\nUn profil et une page professionnelle optimisés.\nMinimum 2 posts LinkedIn rédigés pendant l’atelier\nUne checklist LinkedIn bonnes pratiques (réseautage\, publication\, interaction).\n\nCalendrier du workshop\nJeudi 23 octobre 14h-17h30[/vc_column_text][/vc_column][vc_column width= »1/4″][vc_column_text] \nL’ intervenante\n \nLéa Valbrun \nConsultante en communication digitale et community manager freelance sous le pseudo de Sélénéa Consulting \nJ’accompagne les entrepreneurs du bien-être\, de l’art et la culture et de l’environnement à faire briller leur communication sur les réseaux sociaux et à se démarquer dans un secteur de plus en plus concurrentiel grâce à une offre 100% modulable comprenant de la stratégie\, de l’audit\, du community management\, de l’accompagnement personnalisé\, et de la formation.  Le tout\, toujours dans la joie\, la bonne humeur et la bienveillance. \nhttps://www.selenea.fr/\nhttps://www.instagram.com/selenea_consulting/\nhttps://www.linkedin.com/company/selenea-consulting/\nhttps://www.facebook.com/seleneaconsulting/ \nCoût\nAdhérentes : 59€\nNon adhérentes : 79€ \n  \nDurée : 3h30 en présentiel[/vc_column_text][/vc_column][/vc_row]
URL:https://www.littlebigwomen.com/evenement/workshop-linkedin-booster-sa-visibilite-et-creer-des-connexions/
LOCATION:Little Big Women\, 14 rue Vieux Faubourg\, Lille\, 59800\, France
CATEGORIES:Formations,Workshop
END:VEVENT
BEGIN:VEVENT
DTSTART;TZID=Europe/Paris:20251028T090000
DTEND;TZID=Europe/Paris:20251028T120000
DTSTAMP:20260423T221448
CREATED:20251022T091047Z
LAST-MODIFIED:20251022T091141Z
UID:10000029-1761642000-1761652800@www.littlebigwomen.com
SUMMARY:Atelier « Être bien chez soi en tant qu’entrepreneure » à Lens
DESCRIPTION:[vc_row full_screen_section_height= »no »][vc_column][vc_column_text] \nPetit-déjeuner convivial à Lens \nRejoignez-nous pour un moment d’échanges et de partage entre entrepreneuses\, en toute simplicité et bienveillance.Au programme : networking\, inspiration et un atelier par Raphaele Forest pour repartir boostée et pleine d’idées ! \nOrganisé avec Delphine Kramaczyk \nLieu : Initiative Gohelle (Louvre Lens Vallée)Public : Ouvert à toutes les entrepreneuses\, quel que soit votre domaine. \n[/vc_column_text][/vc_column][/vc_row]
URL:https://www.littlebigwomen.com/evenement/atelier-etre-bien-chez-soi-en-tant-quentrepreneure-a-lens/
LOCATION:Initiative Gohelle (Louvre Lens Vallée)\, 84 Rue Paul Bert\, Lens\, 62300\, France
CATEGORIES:Atelier,Evénements
END:VEVENT
END:VCALENDAR